BEGIN:VCALENDAR
VERSION:2.0
PRODID:-//Soroptimist International of St. Helena - ECPv4.5.9//NONSGML v1.0//EN
CALSCALE:GREGORIAN
METHOD:PUBLISH
X-WR-CALNAME:Soroptimist International of St. Helena
X-ORIGINAL-URL:https://sisthelena.org
X-WR-CALDESC:Events for Soroptimist International of St. Helena
BEGIN:VEVENT
DTSTART;TZID=UTC+0:20251218T173000
DTEND;TZID=UTC+0:20251218T183000
DTSTAMP:20260422T082336
CREATED:20251010T020332Z
LAST-MODIFIED:20251010T020332Z
UID:2354-1766079000-1766082600@sisthelena.org
SUMMARY:Member Business Meeting
DESCRIPTION:
URL:https://sisthelena.org/event/member-business-meeting-8/
LOCATION:1 Main Street\, St. Helena\, CA\, 94574\, United States
END:VEVENT
END:VCALENDAR