BEGIN:VCALENDAR
VERSION:2.0
PRODID:-//Soroptimist International of St. Helena - ECPv4.5.9//NONSGML v1.0//EN
CALSCALE:GREGORIAN
METHOD:PUBLISH
X-WR-CALNAME:Soroptimist International of St. Helena
X-ORIGINAL-URL:https://sisthelena.org
X-WR-CALDESC:Events for Soroptimist International of St. Helena
BEGIN:VEVENT
DTSTART;VALUE=DATE:20251125
DTEND;VALUE=DATE:20251125
DTSTAMP:20260422T091605
CREATED:20251010T020056Z
LAST-MODIFIED:20251010T020151Z
UID:2348-1764028800-1764115199@sisthelena.org
SUMMARY:Orange the World -  16 Days Against Gender-Based Violence Annual Campaign Kick-Off
DESCRIPTION:United Nations General Assembly designated November 25 as the International Day for the Elimination of Violence Against Women. This social justice  campaign\, which runs through December 10th\,  strives to raise awareness around the issue of gender-based violence against women\, a scourge that impacts millions of women around the globe daily. The signature color of the campaign is orange. \n  \n  \n
URL:https://sisthelena.org/event/orange-world-16-days-gender-based-violence-campaign-kick-off/
END:VEVENT
END:VCALENDAR