BEGIN:VCALENDAR
VERSION:2.0
PRODID:-//Soroptimist International of St. Helena - ECPv4.5.9//NONSGML v1.0//EN
CALSCALE:GREGORIAN
METHOD:PUBLISH
X-WR-CALNAME:Soroptimist International of St. Helena
X-ORIGINAL-URL:https://sisthelena.org
X-WR-CALDESC:Events for Soroptimist International of St. Helena
BEGIN:VEVENT
DTSTART;TZID=UTC+0:20251120T173000
DTEND;TZID=UTC+0:20251120T183000
DTSTAMP:20260422T092228
CREATED:20251010T014749Z
LAST-MODIFIED:20251010T014749Z
UID:2346-1763659800-1763663400@sisthelena.org
SUMMARY:Monthly Member Business Meeting
DESCRIPTION:
URL:https://sisthelena.org/event/monthly-member-business-meeting-4/
LOCATION:1 Main Street\, St. Helena\, CA\, 94574\, United States
END:VEVENT
END:VCALENDAR