BEGIN:VCALENDAR
VERSION:2.0
PRODID:-//Soroptimist International of St. Helena - ECPv4.5.9//NONSGML v1.0//EN
CALSCALE:GREGORIAN
METHOD:PUBLISH
X-WR-CALNAME:Soroptimist International of St. Helena
X-ORIGINAL-URL:https://sisthelena.org
X-WR-CALDESC:Events for Soroptimist International of St. Helena
BEGIN:VEVENT
DTSTART;TZID=UTC+0:20250131T173000
DTEND;TZID=UTC+0:20250131T220000
DTSTAMP:20260422T221554
CREATED:20250110T044736Z
LAST-MODIFIED:20250110T044737Z
UID:2235-1738344600-1738360800@sisthelena.org
SUMMARY:Casino Royale Crab Feed & Auction
DESCRIPTION:Casino Royale Friday Night – January 31\, 2025\nAre you ready for the Best Party in Town?   You bet your poker chips you are!   \nLocation: Native Sons Hall \nTickets: $95/each \nTime: Cocktails 5:30 p.m.  Dinner 6:45 p.m. \nDinner includes: wine\, pasta\, crab\, bread\, salad\, dessert\, fund-a-need and dessert auction \n
URL:https://sisthelena.org/event/casino-royale-crab-feed-auction/
LOCATION:1313 Spring Street\, St. Helena\, 94574\, United States
END:VEVENT
END:VCALENDAR