BEGIN:VCALENDAR
VERSION:2.0
PRODID:-//Soroptimist International of St. Helena - ECPv4.5.9//NONSGML v1.0//EN
CALSCALE:GREGORIAN
METHOD:PUBLISH
X-WR-CALNAME:Soroptimist International of St. Helena
X-ORIGINAL-URL:https://sisthelena.org
X-WR-CALDESC:Events for Soroptimist International of St. Helena
BEGIN:VEVENT
DTSTART;TZID=UTC+0:20241114T120000
DTEND;TZID=UTC+0:20241114T130000
DTSTAMP:20260423T030837
CREATED:20241030T033002Z
LAST-MODIFIED:20241030T033002Z
UID:2169-1731585600-1731589200@sisthelena.org
SUMMARY:Board Meeting
DESCRIPTION:
URL:https://sisthelena.org/event/board-meeting-8/
END:VEVENT
END:VCALENDAR