BEGIN:VCALENDAR
VERSION:2.0
PRODID:-//Soroptimist International of St. Helena - ECPv4.5.9//NONSGML v1.0//EN
CALSCALE:GREGORIAN
METHOD:PUBLISH
X-WR-CALNAME:Soroptimist International of St. Helena
X-ORIGINAL-URL:https://sisthelena.org
X-WR-CALDESC:Events for Soroptimist International of St. Helena
BEGIN:VEVENT
DTSTART;TZID=UTC+0:20241107T173000
DTEND;TZID=UTC+0:20241107T183000
DTSTAMP:20260423T030538
CREATED:20241030T032740Z
LAST-MODIFIED:20241031T032524Z
UID:2167-1731000600-1731004200@sisthelena.org
SUMMARY:Member social meeting with guest speaker Ben Scinto
DESCRIPTION:
URL:https://sisthelena.org/event/guest-speaker/
LOCATION:1360 Oak Ave.\, St. Helena\, CA\, 94574
END:VEVENT
END:VCALENDAR