BEGIN:VCALENDAR
VERSION:2.0
PRODID:-//Soroptimist International of St. Helena - ECPv4.5.9//NONSGML v1.0//EN
CALSCALE:GREGORIAN
METHOD:PUBLISH
X-WR-CALNAME:Soroptimist International of St. Helena
X-ORIGINAL-URL:https://sisthelena.org
X-WR-CALDESC:Events for Soroptimist International of St. Helena
BEGIN:VEVENT
DTSTART;TZID=UTC+0:20241024T170000
DTEND;TZID=UTC+0:20241024T183000
DTSTAMP:20260423T043337
CREATED:20240827T181623Z
LAST-MODIFIED:20240827T181623Z
UID:2154-1729789200-1729794600@sisthelena.org
SUMMARY:Monthly Member Business Meeting
DESCRIPTION:Calling all members for our monthly business minutes. First 30 minutes are devoted to member fellowship so com followed an hour of business. \n
URL:https://sisthelena.org/event/monthly-member-business-meeting-2/
LOCATION:1360 Oak Ave.\, St. Helena\, CA\, 94574
END:VEVENT
END:VCALENDAR