BEGIN:VCALENDAR
VERSION:2.0
PRODID:-//Soroptimist International of St. Helena - ECPv4.5.9//NONSGML v1.0//EN
CALSCALE:GREGORIAN
METHOD:PUBLISH
X-WR-CALNAME:Soroptimist International of St. Helena
X-ORIGINAL-URL:https://sisthelena.org
X-WR-CALDESC:Events for Soroptimist International of St. Helena
BEGIN:VEVENT
DTSTART;TZID=UTC+0:20230119T120000
DTEND;TZID=UTC+0:20230119T130000
DTSTAMP:20260424T111617
CREATED:20221215T194113Z
LAST-MODIFIED:20221215T194113Z
UID:2025-1674129600-1674133200@sisthelena.org
SUMMARY:January Business Meeting at Hall Wines
DESCRIPTION:
URL:https://sisthelena.org/event/january-business-meeting-hall-wines/
LOCATION:401 Saint Helena Highway\, Saint Helena\, CA\, 94574\, United States
END:VEVENT
END:VCALENDAR