BEGIN:VCALENDAR
VERSION:2.0
PRODID:-//Soroptimist International of St. Helena - ECPv4.5.9//NONSGML v1.0//EN
CALSCALE:GREGORIAN
METHOD:PUBLISH
X-WR-CALNAME:Soroptimist International of St. Helena
X-ORIGINAL-URL:https://sisthelena.org
X-WR-CALDESC:Events for Soroptimist International of St. Helena
BEGIN:VEVENT
DTSTART;TZID=UTC+0:20230105T173000
DTEND;TZID=UTC+0:20230105T193000
DTSTAMP:20260424T112224
CREATED:20221215T193939Z
LAST-MODIFIED:20221215T193939Z
UID:2023-1672939800-1672947000@sisthelena.org
SUMMARY:FUN Meeting at HALL Wines with BINGO
DESCRIPTION:
URL:https://sisthelena.org/event/fun-meeting-hall-wines-bingo/
LOCATION:401 Saint Helena Highway\, Saint Helena\, CA\, 94574\, United States
END:VEVENT
END:VCALENDAR