BEGIN:VCALENDAR
VERSION:2.0
PRODID:-//Soroptimist International of St. Helena - ECPv4.5.9//NONSGML v1.0//EN
CALSCALE:GREGORIAN
METHOD:PUBLISH
X-WR-CALNAME:Soroptimist International of St. Helena
X-ORIGINAL-URL:https://sisthelena.org
X-WR-CALDESC:Events for Soroptimist International of St. Helena
BEGIN:VEVENT
DTSTART;TZID=UTC+0:20220407T173000
DTEND;TZID=UTC+0:20220407T183000
DTSTAMP:20260425T000828
CREATED:20211003T222020Z
LAST-MODIFIED:20211003T222020Z
UID:1936-1649352600-1649356200@sisthelena.org
SUMMARY:Evening Meeting
DESCRIPTION:
URL:https://sisthelena.org/event/evening-meeting-11/
END:VEVENT
END:VCALENDAR