BEGIN:VCALENDAR
VERSION:2.0
PRODID:-//Soroptimist International of St. Helena - ECPv4.5.9//NONSGML v1.0//EN
CALSCALE:GREGORIAN
METHOD:PUBLISH
X-WR-CALNAME:Soroptimist International of St. Helena
X-ORIGINAL-URL:https://sisthelena.org
X-WR-CALDESC:Events for Soroptimist International of St. Helena
BEGIN:VEVENT
DTSTART;TZID=UTC+0:20211209T120000
DTEND;TZID=UTC+0:20211209T130000
DTSTAMP:20260425T104117
CREATED:20211003T220306Z
LAST-MODIFIED:20211003T220306Z
UID:1903-1639051200-1639054800@sisthelena.org
SUMMARY:Lunch Meeting
DESCRIPTION:We will meet from 12:00 PM- 1:00 PM. Bring a Lunch if you like. \n
URL:https://sisthelena.org/event/lunch-meeting-9/
END:VEVENT
END:VCALENDAR