BEGIN:VCALENDAR
VERSION:2.0
PRODID:-//Soroptimist International of St. Helena - ECPv4.5.9//NONSGML v1.0//EN
CALSCALE:GREGORIAN
METHOD:PUBLISH
X-WR-CALNAME:Soroptimist International of St. Helena
X-ORIGINAL-URL:https://sisthelena.org
X-WR-CALDESC:Events for Soroptimist International of St. Helena
BEGIN:VEVENT
DTSTART;VALUE=DATE:20210926
DTEND;VALUE=DATE:20210927
DTSTAMP:20260425T135050
CREATED:20210913T021250Z
LAST-MODIFIED:20210913T050708Z
UID:1879-1632614400-1632787199@sisthelena.org
SUMMARY:Soroptimist International 100th Virtual Birthday Celebration
DESCRIPTION:Help us celebrate 100 years of education\, empowerment and activism on behalf of women and girls everywhere.  Members are invited to attend a two-day virtual event that will reflect and commemorate our past and present impact while also offering a look forward to the future. Help us create 100 more years of impact by supporting us now with a birthday donation. You can donate here or on our Facebook page. Give what you can. Your help will help us guarantee funding for a variety of programs\, covering scholarships\, grants\, mentorship and community outreach–all benefitting women and girls. Interested in learning more about our program? Please see our scholarship and grant pages on this website. \n
URL:https://sisthelena.org/event/soroptimist-international-turns-100-celebrate-us/
END:VEVENT
END:VCALENDAR