BEGIN:VCALENDAR
VERSION:2.0
PRODID:-//Soroptimist International of St. Helena - ECPv4.5.9//NONSGML v1.0//EN
CALSCALE:GREGORIAN
METHOD:PUBLISH
X-WR-CALNAME:Soroptimist International of St. Helena
X-ORIGINAL-URL:https://sisthelena.org
X-WR-CALDESC:Events for Soroptimist International of St. Helena
BEGIN:VEVENT
DTSTART;TZID=UTC+0:20210916T120000
DTEND;TZID=UTC+0:20210916T130000
DTSTAMP:20260425T152534
CREATED:20210913T011205Z
LAST-MODIFIED:20210913T011916Z
UID:1868-1631793600-1631797200@sisthelena.org
SUMMARY:Welcome Back! 2021-2022 Kick-Off Meeting for Members
DESCRIPTION:Welcome back members of Soroptimist International of St. Helena. In-person lunch meeting scheduled for September 16 at noon @Hall Wines. Check member portal for details. Bring your mask and a brown bag lunch and we’ll see you there. Prospective volunteers\, we welcome your inquiries. We have a busy year ahead and welcome your support. Contact us here for more information.\n
URL:https://sisthelena.org/event/2021-2022-kick-off-meeting-members/
LOCATION:401 Saint Helena Highway\, Saint Helena\, CA\, 94574\, United States
END:VEVENT
END:VCALENDAR