BEGIN:VCALENDAR
VERSION:2.0
PRODID:-//Soroptimist International of St. Helena - ECPv4.5.9//NONSGML v1.0//EN
CALSCALE:GREGORIAN
METHOD:PUBLISH
X-WR-CALNAME:Soroptimist International of St. Helena
X-ORIGINAL-URL:https://sisthelena.org
X-WR-CALDESC:Events for Soroptimist International of St. Helena
BEGIN:VEVENT
DTSTART;TZID=UTC+0:20210610T120000
DTEND;TZID=UTC+0:20210610T130000
DTSTAMP:20260425T192001
CREATED:20200909T203041Z
LAST-MODIFIED:20200909T203041Z
UID:1767-1623326400-1623330000@sisthelena.org
SUMMARY:Business Meeting
DESCRIPTION:Please email sist.helena@soroptimist.net if you need log in details for this ZOOM meeting. \n
URL:https://sisthelena.org/event/business-meeting-10/
END:VEVENT
END:VCALENDAR