BEGIN:VCALENDAR
VERSION:2.0
PRODID:-//Soroptimist International of St. Helena - ECPv4.5.9//NONSGML v1.0//EN
CALSCALE:GREGORIAN
METHOD:PUBLISH
X-WR-CALNAME:Soroptimist International of St. Helena
X-ORIGINAL-URL:https://sisthelena.org
X-WR-CALDESC:Events for Soroptimist International of St. Helena
BEGIN:VEVENT
DTSTART;VALUE=DATE:20210206
DTEND;VALUE=DATE:20210206
DTSTAMP:20260425T231357
CREATED:20200920T224712Z
LAST-MODIFIED:20200920T224712Z
UID:1784-1612569600-1612655999@sisthelena.org
SUMMARY:Virtual Fundraiser- details coming soon
DESCRIPTION:
URL:https://sisthelena.org/event/virtual-fundraiser-details-coming-soon/
END:VEVENT
END:VCALENDAR