BEGIN:VCALENDAR
VERSION:2.0
PRODID:-//Soroptimist International of St. Helena - ECPv4.5.9//NONSGML v1.0//EN
CALSCALE:GREGORIAN
METHOD:PUBLISH
X-WR-CALNAME:Soroptimist International of St. Helena
X-ORIGINAL-URL:https://sisthelena.org
X-WR-CALDESC:Events for Soroptimist International of St. Helena
BEGIN:VEVENT
DTSTART;VALUE=DATE:20220214
DTEND;VALUE=DATE:20220214
DTSTAMP:20260423T205122
CREATED:20211003T221521Z
LAST-MODIFIED:20211003T221521Z
UID:1922-1644796800-1644883199@sisthelena.org
SUMMARY:Valentine's Day
DESCRIPTION:
URL:https://sisthelena.org/event/valentines-day/
END:VEVENT
END:VCALENDAR