BEGIN:VCALENDAR
VERSION:2.0
PRODID:-//Soroptimist International of St. Helena - ECPv4.5.9//NONSGML v1.0//EN
CALSCALE:GREGORIAN
METHOD:PUBLISH
X-WR-CALNAME:Soroptimist International of St. Helena
X-ORIGINAL-URL:https://sisthelena.org
X-WR-CALDESC:Events for Soroptimist International of St. Helena
BEGIN:VEVENT
DTSTART;TZID=UTC+0:20200116T120000
DTEND;TZID=UTC+0:20200116T130000
DTSTAMP:20260423T170501
CREATED:20200116T232442Z
LAST-MODIFIED:20191215T222034Z
UID:1422-1579176000-1579179600@sisthelena.org
SUMMARY:Business Meeting
DESCRIPTION:
URL:https://sisthelena.org/event/speaker-lunch-meeting-3/
LOCATION:1 Main Street\, St. Helena\, CA\, 94574\, United States
END:VEVENT
END:VCALENDAR