BEGIN:VCALENDAR
VERSION:2.0
PRODID:-//Soroptimist International of St. Helena - ECPv4.5.9//NONSGML v1.0//EN
CALSCALE:GREGORIAN
METHOD:PUBLISH
X-WR-CALNAME:Soroptimist International of St. Helena
X-ORIGINAL-URL:https://sisthelena.org
X-WR-CALDESC:Events for Soroptimist International of St. Helena
BEGIN:VEVENT
DTSTART;VALUE=DATE:20190503
DTEND;VALUE=DATE:20190505
DTSTAMP:20260424T012715
CREATED:20180829T000931Z
LAST-MODIFIED:20180829T000931Z
UID:1168-1556841600-1557100799@sisthelena.org
SUMMARY:Soroptimist International Regional Conference
DESCRIPTION:
URL:https://sisthelena.org/event/soroptimist-international-regional-conference/
END:VEVENT
END:VCALENDAR