BEGIN:VCALENDAR
VERSION:2.0
PRODID:-//Soroptimist International of St. Helena - ECPv4.5.9//NONSGML v1.0//EN
CALSCALE:GREGORIAN
METHOD:PUBLISH
X-WR-CALNAME:Soroptimist International of St. Helena
X-ORIGINAL-URL:https://sisthelena.org
X-WR-CALDESC:Events for Soroptimist International of St. Helena
BEGIN:VEVENT
DTSTART;TZID=UTC+0:20190214T120000
DTEND;TZID=UTC+0:20190214T130000
DTSTAMP:20260423T043525
CREATED:20181202T230304Z
LAST-MODIFIED:20181202T230304Z
UID:1309-1550145600-1550149200@sisthelena.org
SUMMARY:Regular Lunch- Guest Speaker- Jenni Olsen with Teens Connect Napa
DESCRIPTION:Teens Connect supports\, engages\, and empowers teens through programs centered around art and wellness\, peer support and volunteer projects. We provide positive opportunities for youth to discover their self-identity\, express their voice and create lasting social impact in their communities.\nTeens Connect collaborates with local school districts\, mental health organizations\, and non-profits to provide a comprehensive network of support for our youth. We give teens a voice in the community\, listen to their concerns and struggles\, and offer tools and connections that guide them as they transition from adolescence into adulthood. We engage teens in meaningful\, interpersonal work\, as well as projects that benefit younger children\, vulnerable communities\, animals\, and the environment. Our inclusive programs are carefully and strategically designed to enable teens to develop confidence\, independence\, and empathy.\n
URL:https://sisthelena.org/event/regular-lunch-guest-speaker-jenni-olsen-teens-connect-napa/
END:VEVENT
END:VCALENDAR