BEGIN:VCALENDAR
VERSION:2.0
PRODID:-//Soroptimist International of St. Helena - ECPv4.5.9//NONSGML v1.0//EN
CALSCALE:GREGORIAN
METHOD:PUBLISH
X-WR-CALNAME:Soroptimist International of St. Helena
X-ORIGINAL-URL:https://sisthelena.org
X-WR-CALDESC:Events for Soroptimist International of St. Helena
BEGIN:VEVENT
DTSTART;TZID=UTC+0:20190314T120000
DTEND;TZID=UTC+0:20190314T130000
DTSTAMP:20260423T120818
CREATED:20180829T000004Z
LAST-MODIFIED:20181202T225255Z
UID:1146-1552564800-1552568400@sisthelena.org
SUMMARY:Member/Guest Lunch Meeting- Pam Parker call to conference
DESCRIPTION:Need Pam’s bio \n
URL:https://sisthelena.org/event/memberguest-lunch-meeting-7/
LOCATION:1 Main Street\, St. Helena\, CA\, 94574\, United States
END:VEVENT
END:VCALENDAR