BEGIN:VCALENDAR
VERSION:2.0
PRODID:-//Soroptimist International of St. Helena - ECPv4.5.9//NONSGML v1.0//EN
CALSCALE:GREGORIAN
METHOD:PUBLISH
X-WR-CALNAME:Soroptimist International of St. Helena
X-ORIGINAL-URL:https://sisthelena.org
X-WR-CALDESC:Events for Soroptimist International of St. Helena
BEGIN:VEVENT
DTSTART;TZID=UTC+0:20190404T173000
DTEND;TZID=UTC+0:20190404T190000
DTSTAMP:20260423T160926
CREATED:20181004T202656Z
LAST-MODIFIED:20181004T202656Z
UID:1251-1554399000-1554404400@sisthelena.org
SUMMARY:Member & Guest Bingo Night
DESCRIPTION:
URL:https://sisthelena.org/event/member-guest-bingo-night/
LOCATION:1 Main Street\, St. Helena\, CA\, 94574\, United States
END:VEVENT
END:VCALENDAR