BEGIN:VCALENDAR
VERSION:2.0
PRODID:-//Soroptimist International of St. Helena - ECPv4.5.9//NONSGML v1.0//EN
CALSCALE:GREGORIAN
METHOD:PUBLISH
X-WR-CALNAME:Soroptimist International of St. Helena
X-ORIGINAL-URL:https://sisthelena.org
X-WR-CALDESC:Events for Soroptimist International of St. Helena
BEGIN:VEVENT
DTSTART;TZID=UTC+0:20190221T173000
DTEND;TZID=UTC+0:20190221T183000
DTSTAMP:20260423T074520
CREATED:20180828T235650Z
LAST-MODIFIED:20180828T235650Z
UID:1140-1550770200-1550773800@sisthelena.org
SUMMARY:Member Business Meeting
DESCRIPTION:
URL:https://sisthelena.org/event/member-business-meeting-4/
LOCATION:1 Main Street\, St. Helena\, CA\, 94574\, United States
END:VEVENT
END:VCALENDAR