BEGIN:VCALENDAR
VERSION:2.0
PRODID:-//Soroptimist International of St. Helena - ECPv4.5.9//NONSGML v1.0//EN
CALSCALE:GREGORIAN
METHOD:PUBLISH
X-WR-CALNAME:Soroptimist International of St. Helena
X-ORIGINAL-URL:https://sisthelena.org
X-WR-CALDESC:Events for Soroptimist International of St. Helena
BEGIN:VEVENT
DTSTART;TZID=UTC+0:20190513T080000
DTEND;TZID=UTC+0:20190513T170000
DTSTAMP:20260424T041325
CREATED:20180829T001331Z
LAST-MODIFIED:20180829T001331Z
UID:1174-1557734400-1557766800@sisthelena.org
SUMMARY:Member Board Meeting - Gambill House
DESCRIPTION:
URL:https://sisthelena.org/event/member-board-meeting-gambill-house-2/
LOCATION:1 Main Street\, St. Helena\, CA\, 94574\, United States
END:VEVENT
END:VCALENDAR