BEGIN:VCALENDAR
VERSION:2.0
PRODID:-//Soroptimist International of St. Helena - ECPv4.5.9//NONSGML v1.0//EN
CALSCALE:GREGORIAN
METHOD:PUBLISH
X-WR-CALNAME:Soroptimist International of St. Helena
X-ORIGINAL-URL:https://sisthelena.org
X-WR-CALDESC:Events for Soroptimist International of St. Helena
BEGIN:VEVENT
DTSTART;VALUE=DATE:20220117
DTEND;VALUE=DATE:20220117
DTSTAMP:20260424T024435
CREATED:20211003T221200Z
LAST-MODIFIED:20211003T221200Z
UID:1914-1642377600-1642463999@sisthelena.org
SUMMARY:Martin Luther King Day
DESCRIPTION:
URL:https://sisthelena.org/event/martin-luther-king-day/
END:VEVENT
END:VCALENDAR