BEGIN:VCALENDAR
VERSION:2.0
PRODID:-//Soroptimist International of St. Helena - ECPv4.5.9//NONSGML v1.0//EN
CALSCALE:GREGORIAN
METHOD:PUBLISH
X-WR-CALNAME:Soroptimist International of St. Helena
X-ORIGINAL-URL:https://sisthelena.org
X-WR-CALDESC:Events for Soroptimist International of St. Helena
BEGIN:VEVENT
DTSTART;TZID=UTC+0:20220113T120000
DTEND;TZID=UTC+0:20220113T130000
DTSTAMP:20260424T042538
CREATED:20211003T221007Z
LAST-MODIFIED:20211003T221007Z
UID:1912-1642075200-1642078800@sisthelena.org
SUMMARY:Lunch Meeting
DESCRIPTION:We will meet from 12PM- 1PM. You can bring your lunch if you would like. \n
URL:https://sisthelena.org/event/lunch-meeting-10/
END:VEVENT
END:VCALENDAR