BEGIN:VCALENDAR
VERSION:2.0
PRODID:-//Soroptimist International of St. Helena - ECPv4.5.9//NONSGML v1.0//EN
CALSCALE:GREGORIAN
METHOD:PUBLISH
X-WR-CALNAME:Soroptimist International of St. Helena
X-ORIGINAL-URL:https://sisthelena.org
X-WR-CALDESC:Events for Soroptimist International of St. Helena
BEGIN:VEVENT
DTSTART;VALUE=DATE:20251115
DTEND;VALUE=DATE:20251115
DTSTAMP:20260421T083044
CREATED:20250925T023936Z
LAST-MODIFIED:20251010T014647Z
UID:2315-1763164800-1763251199@sisthelena.org
SUMMARY:Live Your Dream Education & Training Award Application Deadline
DESCRIPTION:Clink link for details about Soroptimist’s most esteemed and valuable professional grant. Created in 1972\, this award provides qualified women participating in certified academic and vocational programs with cash awards up to $3\,000 designed to help fund those life-changing efforts. 2025 LYD flyer.poster \n
URL:https://sisthelena.org/event/live-dream-education-training-award-application-deadline/
END:VEVENT
END:VCALENDAR