BEGIN:VCALENDAR
VERSION:2.0
PRODID:-//Soroptimist International of St. Helena - ECPv4.5.9//NONSGML v1.0//EN
CALSCALE:GREGORIAN
METHOD:PUBLISH
X-WR-CALNAME:Soroptimist International of St. Helena
X-ORIGINAL-URL:https://sisthelena.org
X-WR-CALDESC:Events for Soroptimist International of St. Helena
BEGIN:VEVENT
DTSTART;TZID=UTC+0:20211003T173000
DTEND;TZID=UTC+0:20211003T193000
DTSTAMP:20260424T195240
CREATED:20211003T222750Z
LAST-MODIFIED:20211003T222750Z
UID:1956-1633282200-1633289400@sisthelena.org
SUMMARY:Installation/Induction/Kiss Goodbye
DESCRIPTION:Fun and Location TBD. \n
URL:https://sisthelena.org/event/installationinductionkiss-goodbye/
END:VEVENT
END:VCALENDAR