BEGIN:VCALENDAR
VERSION:2.0
PRODID:-//Soroptimist International of St. Helena - ECPv4.5.9//NONSGML v1.0//EN
CALSCALE:GREGORIAN
METHOD:PUBLISH
X-WR-CALNAME:Soroptimist International of St. Helena
X-ORIGINAL-URL:https://sisthelena.org
X-WR-CALDESC:Events for Soroptimist International of St. Helena
BEGIN:VEVENT
DTSTART;TZID=UTC+0:20220106T173000
DTEND;TZID=UTC+0:20220106T183000
DTSTAMP:20260424T055652
CREATED:20211003T220445Z
LAST-MODIFIED:20211003T220813Z
UID:1907-1641490200-1641493800@sisthelena.org
SUMMARY:Evening Meeting
DESCRIPTION:Fun and Location TBD. \n
URL:https://sisthelena.org/event/evening-meeting-9/
END:VEVENT
END:VCALENDAR