BEGIN:VCALENDAR
VERSION:2.0
PRODID:-//Soroptimist International of St. Helena - ECPv4.5.9//NONSGML v1.0//EN
CALSCALE:GREGORIAN
METHOD:PUBLISH
X-WR-CALNAME:Soroptimist International of St. Helena
X-ORIGINAL-URL:https://sisthelena.org
X-WR-CALDESC:Events for Soroptimist International of St. Helena
BEGIN:VEVENT
DTSTART;TZID=UTC+0:20211104T173000
DTEND;TZID=UTC+0:20211104T183000
DTSTAMP:20260424T155044
CREATED:20211003T215837Z
LAST-MODIFIED:20211003T215837Z
UID:1895-1636047000-1636050600@sisthelena.org
SUMMARY:Evening Meeting
DESCRIPTION:Fun and Location TBD \n
URL:https://sisthelena.org/event/evening-meeting-8/
END:VEVENT
END:VCALENDAR