BEGIN:VCALENDAR
VERSION:2.0
PRODID:-//Soroptimist International of St. Helena - ECPv4.5.9//NONSGML v1.0//EN
CALSCALE:GREGORIAN
METHOD:PUBLISH
X-WR-CALNAME:Soroptimist International of St. Helena
X-ORIGINAL-URL:https://sisthelena.org
X-WR-CALDESC:Events for Soroptimist International of St. Helena
BEGIN:VEVENT
DTSTART;VALUE=DATE:20220204
DTEND;VALUE=DATE:20220204
DTSTAMP:20260423T235209
CREATED:20211003T221421Z
LAST-MODIFIED:20211003T221421Z
UID:1918-1643932800-1644019199@sisthelena.org
SUMMARY:Crab Feed
DESCRIPTION:
URL:https://sisthelena.org/event/crab-feed-3/
END:VEVENT
END:VCALENDAR