BEGIN:VCALENDAR
VERSION:2.0
PRODID:-//Soroptimist International of St. Helena - ECPv4.5.9//NONSGML v1.0//EN
CALSCALE:GREGORIAN
METHOD:PUBLISH
X-WR-CALNAME:Soroptimist International of St. Helena
X-ORIGINAL-URL:https://sisthelena.org
X-WR-CALDESC:Events for Soroptimist International of St. Helena
BEGIN:VEVENT
DTSTART;TZID=UTC+0:20210408T120000
DTEND;TZID=UTC+0:20210408T130000
DTSTAMP:20260425T124542
CREATED:20200909T195802Z
LAST-MODIFIED:20200909T195802Z
UID:1755-1617883200-1617886800@sisthelena.org
SUMMARY:Business Meeting
DESCRIPTION:Please email sist.helena@soroptimist.net if you need log in details for this ZOOM meeting. \n
URL:https://sisthelena.org/event/business-meeting-8/
END:VEVENT
END:VCALENDAR