BEGIN:VCALENDAR
VERSION:2.0
PRODID:-//Soroptimist International of St. Helena - ECPv4.5.9//NONSGML v1.0//EN
CALSCALE:GREGORIAN
METHOD:PUBLISH
X-WR-CALNAME:Soroptimist International of St. Helena
X-ORIGINAL-URL:https://sisthelena.org
X-WR-CALDESC:Events for Soroptimist International of St. Helena
BEGIN:VEVENT
DTSTART;TZID=UTC+0:20210311T120000
DTEND;TZID=UTC+0:20210311T130000
DTSTAMP:20260425T160205
CREATED:20200909T195553Z
LAST-MODIFIED:20200909T195553Z
UID:1751-1615464000-1615467600@sisthelena.org
SUMMARY:Business Meeting
DESCRIPTION:Please email sist.helena@soroptimist.net if you need log in details for this ZOOM meeting. \n
URL:https://sisthelena.org/event/business-meeting-7/
END:VEVENT
END:VCALENDAR