BEGIN:VCALENDAR
VERSION:2.0
PRODID:-//Soroptimist International of St. Helena - ECPv4.5.9//NONSGML v1.0//EN
CALSCALE:GREGORIAN
METHOD:PUBLISH
X-WR-CALNAME:Soroptimist International of St. Helena
X-ORIGINAL-URL:https://sisthelena.org
X-WR-CALDESC:Events for Soroptimist International of St. Helena
BEGIN:VEVENT
DTSTART;TZID=UTC+0:20220217T120000
DTEND;TZID=UTC+0:20220217T130000
DTSTAMP:20260423T191944
CREATED:20211003T221603Z
LAST-MODIFIED:20211003T221603Z
UID:1924-1645099200-1645102800@sisthelena.org
SUMMARY:Business Meeting
DESCRIPTION:
URL:https://sisthelena.org/event/business-meeting-15/
END:VEVENT
END:VCALENDAR