BEGIN:VCALENDAR
VERSION:2.0
PRODID:-//Soroptimist International of St. Helena - ECPv4.5.9//NONSGML v1.0//EN
CALSCALE:GREGORIAN
METHOD:PUBLISH
X-WR-CALNAME:Soroptimist International of St. Helena
X-ORIGINAL-URL:https://sisthelena.org
X-WR-CALDESC:Events for Soroptimist International of St. Helena
BEGIN:VEVENT
DTSTART;TZID=UTC+0:20190219T173000
DTEND;TZID=UTC+0:20190219T190000
DTSTAMP:20260423T074520
CREATED:20180828T235532Z
LAST-MODIFIED:20180828T235532Z
UID:1137-1550597400-1550602800@sisthelena.org
SUMMARY:Board Meeting - Gambill House
DESCRIPTION:
URL:https://sisthelena.org/event/board-meeting-gambill-house-3/
END:VEVENT
END:VCALENDAR