BEGIN:VCALENDAR
VERSION:2.0
PRODID:-//Soroptimist International of St. Helena - ECPv4.5.9//NONSGML v1.0//EN
CALSCALE:GREGORIAN
METHOD:PUBLISH
X-WR-CALNAME:Soroptimist International of St. Helena
X-ORIGINAL-URL:https://sisthelena.org
X-WR-CALDESC:Events for Soroptimist International of St. Helena
BEGIN:VEVENT
DTSTART;TZID=UTC+0:20200114T173000
DTEND;TZID=UTC+0:20200114T190000
DTSTAMP:20260423T153526
CREATED:20190804T232701Z
LAST-MODIFIED:20200107T024048Z
UID:1424-1579023000-1579028400@sisthelena.org
SUMMARY:BOARD MEETING- Elaine
DESCRIPTION:
URL:https://sisthelena.org/event/board-meeting-5/
END:VEVENT
END:VCALENDAR